BEGIN:VCALENDAR
VERSION:2.0
PRODID:-//ChamberMaster//Event Calendar 2.0//EN
METHOD:PUBLISH
X-PUBLISHED-TTL:P3D
REFRESH-INTERVAL:P3D
CALSCALE:GREGORIAN
BEGIN:VEVENT
DTSTART:20240808T233000Z
DTEND:20240809T010000Z
X-MICROSOFT-CDO-ALLDAYEVENT:FALSE
SUMMARY:Ballet Master Classes
DESCRIPTION:6:30-8 p.m.\, Studio 34. A full ballet class will be offered by Ballet Master Instructor\, Mara Klenda for dance students aged 10 years through adult. Dancers must have a minimum of two years dance experience. This class is designed to help prepare dancers for the upcoming Barton Nutcracker auditions. Hosted by the Barton Dance Department. Cost is $10.
X-ALT-DESC;FMTTYPE=text/html:6:30-8 p.m.\, Studio 34. A full ballet class will be offered by Ballet Master Instructor\, Mara Klenda for dance students aged 10 years through adult. Dancers must have a minimum of two years dance experience. This class is designed to help prepare dancers for the upcoming Barton Nutcracker auditions. Hosted by the Barton Dance Department. Cost is $10.
LOCATION:Barton Community College
UID:e.2303.13964
SEQUENCE:3
DTSTAMP:20260424T135155Z
URL:http://greatbend.chambermaster.com/events/details/ballet-master-classes-13964
END:VEVENT

END:VCALENDAR
