BEGIN:VCALENDAR
VERSION:2.0
PRODID:-//ChamberMaster//Event Calendar 2.0//EN
METHOD:PUBLISH
X-PUBLISHED-TTL:P3D
REFRESH-INTERVAL:P3D
CALSCALE:GREGORIAN
BEGIN:VEVENT
DTSTART:20250820T140000Z
DTEND:20250820T150000Z
X-MICROSOFT-CDO-ALLDAYEVENT:FALSE
SUMMARY:Automated Workflows: Boost Efficiency to Scale Your Business
DESCRIPTION:In this hands-on online training\, you'll learn how to build and implement automated workflows that streamline operations\, reduce manual tasks\, and improve overall productivity. We'll break down what automated workflows are\, how they work\, and how to integrate them with your existing tools and systems for maximum efficiency.\n\nDiscover how automation can:\n\n	Save time by reducing repetitive tasks\n	Improve accuracy and consistency across processes\n	Scale operations effortlessly without added overhead\n	Integrate seamlessly with platforms like CRMs\, email marketing tools\, and more
X-ALT-DESC;FMTTYPE=text/html:In this hands-on online training\, you&rsquo\;ll learn how to build and implement automated workflows that streamline operations\, reduce manual tasks\, and improve overall productivity. We&#39\;ll break down what automated workflows are\, how they work\, and how to integrate them with your existing tools and systems for maximum efficiency.<br />\nDiscover how automation can:\n<ul>\n	<li>Save time by reducing repetitive tasks</li>\n	<li>Improve accuracy and consistency across processes</li>\n	<li>Scale operations effortlessly without added overhead</li>\n	<li>Integrate seamlessly with platforms like CRMs\, email marketing tools\, and more</li>\n</ul>\n
LOCATION:Online
UID:e.2303.17763
SEQUENCE:3
DTSTAMP:20260423T171729Z
URL:http://greatbend.chambermaster.com/events/details/automated-workflows-boost-efficiency-to-scale-your-business-17763
END:VEVENT

END:VCALENDAR
