BEGIN:VCALENDAR
VERSION:2.0
PRODID:-//ChamberMaster//Event Calendar 2.0//EN
METHOD:PUBLISH
X-PUBLISHED-TTL:P3D
REFRESH-INTERVAL:P3D
CALSCALE:GREGORIAN
BEGIN:VEVENT
DTSTART:20241102T190000Z
DTEND:20241102T210000Z
X-MICROSOFT-CDO-ALLDAYEVENT:FALSE
SUMMARY:Auditions for "Sing\, Sing Blues"
DESCRIPTION:The Barton Community College Theatre Department will hold auditions for its spring production of the new musical "Sing\, Sing Blues\," by Barton Psychology Instructor Eric Smith at 2 p.m. Nov. 2 and 3 in the Fine Arts Auditorium\, and all roles and technical positions will be cast on those two days.\n\n\n\nThe story centers around a group of men housed in the historic Sing Sing prison in New York.  Roles will include the six inmates and four of their wives.  Anyone 18 and over will be considered.  Those auditioning do not need to prepare anything but will need to dress comfortably to move and dance.\n\n\n\nThere will be multiple showings Feb. 20-23. The production is suitable for ages 10 and up. For more information\, contact the show's director\, Denise Williams\, at williamsde@bartonccc.edu or (620) 792-9333.  Additional details can be found at shows.bartonccc.edu.
X-ALT-DESC;FMTTYPE=text/html:The Barton Community College Theatre Department will hold auditions for its spring production of the new musical &ldquo\;Sing\, Sing Blues\,&rdquo\; by Barton Psychology Instructor Eric Smith at 2 p.m. Nov. 2 and 3 in the Fine Arts Auditorium\, and all roles and technical positions will be cast on those two days.<br />\n<br />\nThe story centers around a group of men housed in the historic Sing Sing prison in New York.&nbsp\; Roles will include the six inmates and four of their wives.&nbsp\; Anyone 18 and over will be considered.&nbsp\; Those auditioning do not need to prepare anything but will need to dress comfortably to move and dance.<br />\n<br />\nThere will be multiple showings Feb. 20-23. The production is suitable for ages 10 and up. For more information\, contact the show&rsquo\;s director\, Denise Williams\, at williamsde@bartonccc.edu or (620) 792-9333.&nbsp\; Additional details can be found at shows.bartonccc.edu.
LOCATION:Fine Arts Auditorium at Barton Community College
UID:e.2303.15005
SEQUENCE:3
DTSTAMP:20260425T012904Z
URL:http://greatbend.chambermaster.com/events/details/auditions-for-sing-sing-blues-15005
END:VEVENT

END:VCALENDAR
