BEGIN:VCALENDAR
VERSION:2.0
PRODID:-//ChamberMaster//Event Calendar 2.0//EN
METHOD:PUBLISH
X-PUBLISHED-TTL:P3D
REFRESH-INTERVAL:P3D
CALSCALE:GREGORIAN
BEGIN:VEVENT
DTSTART:20250429T000000Z
DTEND:20250429T020000Z
X-MICROSOFT-CDO-ALLDAYEVENT:FALSE
SUMMARY:Ask an Archaeologist
DESCRIPTION:Paige Bump with the Kansas State Historical Society will be giving the April program. Bring an object or three for her to tell you if they are an artifact! At this event you can find out what kind of artifacts are found in your area\, why artifacts are important\, and many more questions!
X-ALT-DESC;FMTTYPE=text/html:Paige Bump with the Kansas State Historical Society will be giving the April program. Bring an object or three for her to tell you if they are an artifact! At this event you can find out what kind of artifacts are found in your area\, why artifacts are important\, and many more questions!
LOCATION:Barton County Historical Society
UID:e.2303.16603
SEQUENCE:3
DTSTAMP:20260421T172755Z
URL:http://greatbend.chambermaster.com/events/details/ask-an-archaeologist-16603
END:VEVENT

END:VCALENDAR
