BEGIN:VCALENDAR
VERSION:2.0
PRODID:-//ChamberMaster//Event Calendar 2.0//EN
METHOD:PUBLISH
X-PUBLISHED-TTL:P3D
REFRESH-INTERVAL:P3D
CALSCALE:GREGORIAN
BEGIN:VEVENT
DTSTART:20250502T213000Z
DTEND:20250503T003000Z
X-MICROSOFT-CDO-ALLDAYEVENT:FALSE
SUMMARY:Art & Wine Walk
DESCRIPTION:Raise a glass and stroll through downtown as local shops transform into vibrant art galleries\, each one pouring inspiration by the glassful. Sip on fine wines while you explore brushstrokes\, bold pottery\, and handcrafted masterpieces from talented local artists. Mingle with makers\, swirl your glass\, and let the evening paint a perfect picture of culture\, flavor\, and fun. It's where art meets wine and magic happens. Cheers to a night you won't forget!
X-ALT-DESC;FMTTYPE=text/html:Raise a glass and stroll through downtown as local shops transform into vibrant art galleries\, each one pouring inspiration by the glassful. Sip on fine wines while you explore brushstrokes\, bold pottery\, and handcrafted masterpieces from talented local artists. Mingle with makers\, swirl your glass\, and let the evening paint a perfect picture of culture\, flavor\, and fun. It&#39\;s where art meets wine&mdash\;and magic happens. Cheers to a night you won&rsquo\;t forget!
LOCATION:Downtown Great Ben\, KS
UID:e.2303.16874
SEQUENCE:3
DTSTAMP:20260422T012418Z
URL:http://greatbend.chambermaster.com/events/details/art-wine-walk-16874
END:VEVENT

END:VCALENDAR
