BEGIN:VCALENDAR
VERSION:2.0
PRODID:-//ChamberMaster//Event Calendar 2.0//EN
METHOD:PUBLISH
X-PUBLISHED-TTL:P3D
REFRESH-INTERVAL:P3D
CALSCALE:GREGORIAN
BEGIN:VEVENT
DTSTART:20241009T150000Z
DTEND:20241009T160000Z
X-MICROSOFT-CDO-ALLDAYEVENT:FALSE
SUMMARY:Alzheimer's Community Forum
DESCRIPTION:You are invited to a community focused Alzheimer's Community Forum. This is a non-cost\, in-person event held at the Great Bend Senior Center. Join us to learn about Alzheimer's disease\, and share your thoughts about how the Alzheimer's Association can help those in your community who are in an Alzheimer's journey or who are caring for someone with dementia.
X-ALT-DESC;FMTTYPE=text/html:You are invited to a community focused Alzheimer&#39\;s Community Forum. This is a non-cost\, in-person event held at the Great Bend Senior Center. Join us to learn about Alzheimer&#39\;s disease\, and share your thoughts about how the Alzheimer&#39\;s Association can help those in your community who are in an Alzheimer&#39\;s journey or who are caring for someone with dementia.&nbsp\;
LOCATION:Great Bend Senior Center 2005 Kansas Ave. Great Bend\, KS
UID:e.2303.14977
SEQUENCE:3
DTSTAMP:20260423T212548Z
URL:http://greatbend.chambermaster.com/events/details/alzheimer-s-community-forum-14977
END:VEVENT

END:VCALENDAR
