BEGIN:VCALENDAR
VERSION:2.0
PRODID:-//ChamberMaster//Event Calendar 2.0//EN
METHOD:PUBLISH
X-PUBLISHED-TTL:P3D
REFRESH-INTERVAL:P3D
CALSCALE:GREGORIAN
BEGIN:VEVENT
DTSTART:20251014T183000Z
DTEND:20251014T193000Z
X-MICROSOFT-CDO-ALLDAYEVENT:FALSE
SUMMARY:A conversation about USPTO resources: Q&A & Resources
DESCRIPTION:Join the Rocky Mountain USPTO to hear a short review of the different types of intellectual property\, and then dive into a discussion on USPTO resources available to the Public\, and a dedicated time of audience Q&A.\n\n	Review of all types of intellectual property\n	IP Identifier\n	Search resources\n	Pro Se Assistance\n	Free and reduced-price legal services\n	Other of resources
X-ALT-DESC;FMTTYPE=text/html:Join the Rocky Mountain USPTO to hear a short review of the different types of intellectual property\, and then dive into a discussion on USPTO resources available to the Public\, and a dedicated time of audience Q&amp\;A.\n<ul>\n	<li>Review of all types of intellectual property</li>\n	<li>IP Identifier</li>\n	<li>Search resources</li>\n	<li>Pro Se Assistance</li>\n	<li>Free and reduced-price legal services</li>\n	<li>Other of resources</li>\n</ul>\n
LOCATION:Online
UID:e.2303.17781
SEQUENCE:3
DTSTAMP:20260420T221948Z
URL:http://greatbend.chambermaster.com/events/details/a-conversation-about-uspto-resources-q-a-resources-17781
END:VEVENT

END:VCALENDAR
