BEGIN:VCALENDAR
VERSION:2.0
PRODID:-//ChamberMaster//Event Calendar 2.0//EN
METHOD:PUBLISH
X-PUBLISHED-TTL:P3D
REFRESH-INTERVAL:P3D
CALSCALE:GREGORIAN
BEGIN:VEVENT
DTSTART:20241121T150000Z
DTEND:20241121T210000Z
X-MICROSOFT-CDO-ALLDAYEVENT:FALSE
SUMMARY:3rd Annual KANSASWORKS
DESCRIPTION:We invite you to attend the 3rd annual KANSASWORKS National Apprenticeship Week Summit!
X-ALT-DESC;FMTTYPE=text/html:We invite you to attend the 3rd annual KANSASWORKS National Apprenticeship Week Summit!&nbsp\;
LOCATION:Salina\, KS
UID:e.2303.14446
SEQUENCE:3
DTSTAMP:20260425T013316Z
URL:http://greatbend.chambermaster.com/events/details/3rd-annual-kansasworks-14446
END:VEVENT

END:VCALENDAR
