BEGIN:VCALENDAR
VERSION:2.0
PRODID:-//ChamberMaster//Event Calendar 2.0//EN
METHOD:PUBLISH
X-PUBLISHED-TTL:P3D
REFRESH-INTERVAL:P3D
CALSCALE:GREGORIAN
BEGIN:VEVENT
DTSTART:20251007T220000Z
DTEND:20251008T013000Z
X-MICROSOFT-CDO-ALLDAYEVENT:FALSE
SUMMARY:2025 Candidate Forum - Great Bend
DESCRIPTION:The League of Women Voters\, along with the Great Bend Chamber of Commerce\, the City of Great Bend/CVB and Barton County\, invites you to a free\, nonpartisan Candidate Forum featuring individuals running for local office in the upcoming election.\n\nThis is your opportunity to meet the candidates who want to represent you your community\, your values\, and your future. Come hear directly from those seeking your vote\, ask questions\, and make informed decisions that shape the direction of our region\, state\, and nation.\n\nYour participation matters.\n\nDemocracy works best when we all show up. Join us for an evening of civic engagement and help drive meaningful change right here in Barton County.\n\n  Great Bend Events Center\, 3111 10th Street\, GBK\n\n  Tuesday\, October 7\, 2025\n\n  5:30 - 8:30 PM\n\n\n\nDoors open at 5:00 PM for meet-and-greet with candidates\n\n\n\n5:30 pm- USD 428 school board \n\n\n\n6:30 pm- BCC Trustees\n\n\n\n7:30 pm- Mayor & City Council\n\n\n\nLet's build a stronger future together.\n\nBoth forums will be live-streamed on the Great Bend Post.\n\n\n\nContact: Janice Walker\, 620-617-4568\n\njanicew1949@gmail.com\n\n\n\nClick here for candidate bio's!\n\n\n\nhttps://www.vote411.org/ballot?fbclid=IwZXh0bgNhZW0CMTAAYnJpZBExQTY3VllxZGNTSEVOR0RsRAEeXZvO0zChxN5IzdSeS-0z9ZOliTEWYp5xn_sx58cT1IQQ9_stqlk9vw7hoDs_aem_dHm2khGv1ZGA3LnQ3kXeww\n\n\n\nClick Here: for Candidate Answers to Forum Questions:\n\nchambermaster.blob.core.windows.net/userfiles/UserFiles/chambers/2303/File/Megan/CandidateAnswers.pdf
X-ALT-DESC;FMTTYPE=text/html:<span style="font-size:14px\;">The League of Women Voters\, along with the Great Bend Chamber of Commerce\, the City of Great Bend/CVB and Barton County\, invites you to a <strong data-end="375" data-start="338">free\, nonpartisan Candidate Forum</strong> featuring individuals running for <strong data-end="446" data-start="410">local&nbsp\;office</strong> in the upcoming election.<br />\nThis is your opportunity to meet the candidates who want to represent you&mdash\;your community\, your values\, and your future. Come hear directly from those seeking your vote\, ask questions\, and make informed decisions that shape the direction of our region\, state\, and nation.<br />\n<strong data-end="777" data-start="746">Your participation matters.</strong><br />\nDemocracy works best when we all show up. Join us for an evening of civic engagement and help drive meaningful change right here in Barton County.<br />\n&#128205\; <strong data-end="959" data-start="931">Great Bend Events Center\, 3111 10th Street\, GBK</strong><br />\n&#128197\; <strong data-end="993" data-start="965">Tuesday\, October 7\, 2025</strong><br />\n&#9200\; <b>5:30 - 8:30 PM</b></span><br />\n<br />\n<strong><span style="color: black\;">Doors open at 5:00 PM for meet-and-greet with candidates</span></strong><br />\n<br />\n<span style="font-size:14px\;"><u><strong>5:30 pm- USD 428 school board&nbsp\;</strong></u><br />\n<br />\n<u><strong>6:30 pm- BCC Trustees</strong></u><br />\n<br />\n<u><strong>7:30 pm- Mayor &amp\; City Council</strong></u><br />\n<br />\nLet&rsquo\;s build a stronger future&mdash\;together.<br />\nBoth forums will be live-streamed on the Great Bend Post.</span><br />\n<br />\nContact: Janice Walker\, 620-617-4568<br />\n<a href="mailto:janicew1949@gmail.com">janicew1949@gmail.com</a><br />\n<br />\nClick here for candidate bio&#39\;s!<br />\n<br />\n<a href="https://www.vote411.org/ballot?fbclid=IwZXh0bgNhZW0CMTAAYnJpZBExQTY3VllxZGNTSEVOR0RsRAEeXZvO0zChxN5IzdSeS-0z9ZOliTEWYp5xn_sx58cT1IQQ9_stqlk9vw7hoDs_aem_dHm2khGv1ZGA3LnQ3kXeww" style="font-size: 14px\;">https://www.vote411.org/ballot?fbclid=IwZXh0bgNhZW0CMTAAYnJpZBExQTY3VllxZGNTSEVOR0RsRAEeXZvO0zChxN5IzdSeS-0z9ZOliTEWYp5xn_sx58cT1IQQ9_stqlk9vw7hoDs_aem_dHm2khGv1ZGA3LnQ3kXeww</a><br />\n<br />\n<a href="https://chambermaster.blob.core.windows.net/userfiles/UserFiles/chambers/2303/File/Megan/CandidateAnswers.pdf">Click Here:&nbsp\;</a><span style="font-size: 14px\;">for Candidate Answers to Forum Questions:</span><br />\n<a href="http://chambermaster.blob.core.windows.net/userfiles/UserFiles/chambers/2303/File/Megan/CandidateAnswers.pdf">chambermaster.blob.core.windows.net/userfiles/UserFiles/chambers/2303/File/Megan/CandidateAnswers.pdf</a>
LOCATION:Great Bend Events Center 3111 10th Street Great Bend\, KS 67530
UID:e.2303.17797
SEQUENCE:3
DTSTAMP:20260422T053808Z
URL:http://greatbend.chambermaster.com/events/details/2025-candidate-forum-great-bend-17797
END:VEVENT

END:VCALENDAR
